BEGIN:VCALENDAR
VERSION:2.0
PRODID:-//iRace.vn//Calendar Export//EN
CALSCALE:GREGORIAN
BEGIN:VEVENT
DTSTART:20230812T170000Z
DTEND:20230813T165959Z
URL:https://ticket.irace.vn/vnexpress-marathon-marvelous-nha-trang-2023
SUMMARY:Giải chạy VnExpress Marathon Marvelous Nha Trang 2023
DESCRIPTION:Kiếm tiền cùng iRace: https://ticket.irace.vn/affiliate
LOCATION:Quảng trường 2/4 - TP. Nha Trang
STATUS:CONFIRMED
SEQUENCE:0
END:VEVENT
END:VCALENDAR