BEGIN:VCALENDAR
VERSION:2.0
PRODID:-//iRace.vn//Calendar Export//EN
CALSCALE:GREGORIAN
BEGIN:VEVENT
DTSTART:20231202T170000Z
DTEND:20231203T165959Z
URL:https://ticket.irace.vn/can-tho-marathon-heritage-race
SUMMARY:Giải chạy Can Tho Marathon – Heritage Race 2023
DESCRIPTION:Kiếm tiền cùng iRace: https://ticket.irace.vn/affiliate
LOCATION:Quảng trường Công viên Sông Hậu
STATUS:CONFIRMED
SEQUENCE:0
END:VEVENT
END:VCALENDAR