BEGIN:VCALENDAR
VERSION:2.0
PRODID:-//iRace.vn//Calendar Export//EN
CALSCALE:GREGORIAN
BEGIN:VEVENT
DTSTART:20231007T170000Z
DTEND:20231008T165959Z
URL:https://ticket.irace.vn/vpbank-hanoi-international-marathon
SUMMARY:Giải chạy VPBank Hanoi International Marathon
DESCRIPTION:Kiếm tiền cùng iRace: https://ticket.irace.vn/affiliate
LOCATION:Quảng trường Đông Kinh Nghĩa Thục
STATUS:CONFIRMED
SEQUENCE:0
END:VEVENT
END:VCALENDAR