BEGIN:VCALENDAR
VERSION:2.0
PRODID:-//iRace.vn//Calendar Export//EN
CALSCALE:GREGORIAN
BEGIN:VEVENT
DTSTART:20240223T170000Z
DTEND:20240224T165959Z
URL:https://ticket.irace.vn/minh-dam-discovery-marathon-2024
SUMMARY:Giải chạy Minh Đạm Discovery Marathon 2024
DESCRIPTION:Kiếm tiền cùng iRace: https://ticket.irace.vn/affiliate
LOCATION:Fleur de Lys Resort & Spa, thị trấn Long Hải, tỉnh BRVT
STATUS:CONFIRMED
SEQUENCE:0
END:VEVENT
END:VCALENDAR