BEGIN:VCALENDAR
VERSION:2.0
PRODID:-//iRace.vn//Calendar Export//EN
CALSCALE:GREGORIAN
BEGIN:VEVENT
DTSTART:20231021T170000Z
DTEND:20231022T165959Z
URL:https://ticket.irace.vn/giai-chay-snow-fun-run
SUMMARY:Giải chạy SNOW Fun Run
DESCRIPTION:Kiếm tiền cùng iRace: https://ticket.irace.vn/affiliate
LOCATION:Phú Mỹ Hưng, Quận 7
STATUS:CONFIRMED
SEQUENCE:0
END:VEVENT
END:VCALENDAR