BEGIN:VCALENDAR
VERSION:2.0
PRODID:-//iRace.vn//Calendar Export//EN
CALSCALE:GREGORIAN
BEGIN:VEVENT
DTSTART:20240517T170000Z
DTEND:20240518T165959Z
URL:https://ticket.irace.vn/giai-chay-stop-and-run-marathon-binh-thuan-2024
SUMMARY:Giải chạy Stop And Run Marathon Bình Thuận 2024
DESCRIPTION:Kiếm tiền cùng iRace: https://ticket.irace.vn/affiliate
LOCATION:Bàu Trắng - Bình Thuận
STATUS:CONFIRMED
SEQUENCE:0
END:VEVENT
END:VCALENDAR