BEGIN:VCALENDAR
VERSION:2.0
PRODID:-//iRace.vn//Calendar Export//EN
CALSCALE:GREGORIAN
BEGIN:VEVENT
DTSTART:20240406T170000Z
DTEND:20240407T165959Z
URL:https://ticket.irace.vn/den-hung-spirituality-marathon
SUMMARY:Giải chạy Đền Hùng Spirituality Marathon - "Về nguồn"
DESCRIPTION:Kiếm tiền cùng iRace: https://ticket.irace.vn/affiliate
LOCATION:Khu di tích lịch sử Đền Hùng, Phú Thọ
STATUS:CONFIRMED
SEQUENCE:0
END:VEVENT
END:VCALENDAR