BEGIN:VCALENDAR
VERSION:2.0
PRODID:-//iRace.vn//Calendar Export//EN
CALSCALE:GREGORIAN
BEGIN:VEVENT
DTSTART:20240418T170000Z
DTEND:20240419T165959Z
URL:https://ticket.irace.vn/da-lat-fresh-night
SUMMARY:Giải chạy Đà Lạt Fresh Night
DESCRIPTION:Kiếm tiền cùng iRace: https://ticket.irace.vn/affiliate
LOCATION:Lam Vien Square, Da Lat City
STATUS:CONFIRMED
SEQUENCE:0
END:VEVENT
END:VCALENDAR