BEGIN:VCALENDAR
VERSION:2.0
PRODID:-//iRace.vn//Calendar Export//EN
CALSCALE:GREGORIAN
BEGIN:VEVENT
DTSTART:20240413T170000Z
DTEND:20240414T165959Z
URL:https://ticket.irace.vn/binh-duong-new-city-half-marathon-2024
SUMMARY:Giải chạy Bình Dương New City Half Marathon 2024
DESCRIPTION:Kiếm tiền cùng iRace: https://ticket.irace.vn/affiliate
LOCATION:Trung tâm Triển lãm Quốc tế WTC EXPO
STATUS:CONFIRMED
SEQUENCE:0
END:VEVENT
END:VCALENDAR