BEGIN:VCALENDAR
VERSION:2.0
PRODID:-//iRace.vn//Calendar Export//EN
CALSCALE:GREGORIAN
BEGIN:VEVENT
DTSTART:20241116T170000Z
DTEND:20241117T165959Z
URL:https://ticket.irace.vn/marathon-quoc-te-di-san-ha-long-2024
SUMMARY:Giải chạy Marathon Quốc tế Di sản Hạ Long 2024
DESCRIPTION:Kiếm tiền cùng iRace: https://ticket.irace.vn/affiliate
LOCATION:Cung Quy hoạch, Hội chợ và Triển lãm Tỉnh Quảng Ninh
STATUS:CONFIRMED
SEQUENCE:0
END:VEVENT
END:VCALENDAR