BEGIN:VCALENDAR
VERSION:2.0
PRODID:-//iRace.vn//Calendar Export//EN
CALSCALE:GREGORIAN
BEGIN:VEVENT
DTSTART:20240713T170000Z
DTEND:20240714T165959Z
URL:https://ticket.irace.vn/vnexpress-marathon-da-nang-midnight-2024
SUMMARY:Giải chạy VnExpress Marathon Da Nang Midnight 2024
DESCRIPTION:Kiếm tiền cùng iRace: https://ticket.irace.vn/affiliate
LOCATION:Đà Nẵng
STATUS:CONFIRMED
SEQUENCE:0
END:VEVENT
END:VCALENDAR