BEGIN:VCALENDAR
VERSION:2.0
PRODID:-//iRace.vn//Calendar Export//EN
CALSCALE:GREGORIAN
BEGIN:VEVENT
DTSTART:20240823T170000Z
DTEND:20240824T165959Z
URL:https://ticket.irace.vn/me-pet-run-2024
SUMMARY:Giải chạy Me&Pet Run 2024
DESCRIPTION:Kiếm tiền cùng iRace: https://ticket.irace.vn/affiliate
LOCATION:Công Viên Đường 96 Khu Thạnh Mỹ Lợi
STATUS:CONFIRMED
SEQUENCE:0
END:VEVENT
END:VCALENDAR