BEGIN:VCALENDAR
VERSION:2.0
PRODID:-//iRace.vn//Calendar Export//EN
CALSCALE:GREGORIAN
BEGIN:VEVENT
DTSTART:20241102T170000Z
DTEND:20241103T165959Z
URL:https://ticket.irace.vn/standard-chartered-ha-noi-marathon-heritage-race
SUMMARY:Giải chạy Standard Chartered Hanoi Marathon - Heritage Race 2024
DESCRIPTION:Kiếm tiền cùng iRace: https://ticket.irace.vn/affiliate
LOCATION:Không gian đi bộ phố Trần Nhân Tông và khu vực cổng chính Công viên Thống Nhất, quận Hai Bà Trưng
STATUS:CONFIRMED
SEQUENCE:0
END:VEVENT
END:VCALENDAR