BEGIN:VCALENDAR
VERSION:2.0
PRODID:-//iRace.vn//Calendar Export//EN
CALSCALE:GREGORIAN
BEGIN:VEVENT
DTSTART:20241116T170000Z
DTEND:20241117T165959Z
URL:https://ticket.irace.vn/vietnam-morse-run-saigon-version-run-to-home
SUMMARY:Giải chạy Vietnam Morse Run - Saigon Version- Run to Home
DESCRIPTION:Kiếm tiền cùng iRace: https://ticket.irace.vn/affiliate
LOCATION:Dinh Độc Lập, Quận 1, Tp.HCM
STATUS:CONFIRMED
SEQUENCE:0
END:VEVENT
END:VCALENDAR