BEGIN:VCALENDAR
VERSION:2.0
PRODID:-//iRace.vn//Calendar Export//EN
CALSCALE:GREGORIAN
BEGIN:VEVENT
DTSTART:20240615T170000Z
DTEND:20240616T165959Z
URL:https://ticket.irace.vn/quang-tri-marathon-2024
SUMMARY:Giải chạy Quảng Trị Marathon 2024
DESCRIPTION:Kiếm tiền cùng iRace: https://ticket.irace.vn/affiliate
LOCATION:Quang Tri Province Culture and Cinema Center
STATUS:CONFIRMED
SEQUENCE:0
END:VEVENT
END:VCALENDAR