BEGIN:VCALENDAR
VERSION:2.0
PRODID:-//iRace.vn//Calendar Export//EN
CALSCALE:GREGORIAN
BEGIN:VEVENT
DTSTART:20241018T170000Z
DTEND:20241019T165959Z
URL:https://ticket.irace.vn/water-run-2024-ha-noi
SUMMARY:WATER RUN 2024 | Hà Nội
DESCRIPTION:Kiếm tiền cùng iRace: https://ticket.irace.vn/affiliate
LOCATION:VINHOMES OCEAN PARK 2
STATUS:CONFIRMED
SEQUENCE:0
END:VEVENT
END:VCALENDAR