BEGIN:VCALENDAR
VERSION:2.0
PRODID:-//iRace.vn//Calendar Export//EN
CALSCALE:GREGORIAN
BEGIN:VEVENT
DTSTART:20241012T170000Z
DTEND:20241013T165959Z
URL:https://ticket.irace.vn/dat-sen-hong-marathon-dong-thap-2024
SUMMARY:Giải chạy Đất Sen Hồng Marathon Đồng Tháp 2024
DESCRIPTION:Kiếm tiền cùng iRace: https://ticket.irace.vn/affiliate
LOCATION:TP. Cao Lãnh, tỉnh Đồng Tháp
STATUS:CONFIRMED
SEQUENCE:0
END:VEVENT
END:VCALENDAR