BEGIN:VCALENDAR
VERSION:2.0
PRODID:-//iRace.vn//Calendar Export//EN
CALSCALE:GREGORIAN
BEGIN:VEVENT
DTSTART:20250214T170000Z
DTEND:20250215T165959Z
URL:https://ticket.irace.vn/mang-den-ultra-trail-2025
SUMMARY:Giải chạy Măng Đen Ultra Trail 2025
DESCRIPTION:Kiếm tiền cùng iRace: https://ticket.irace.vn/affiliate
LOCATION:Thị trấn Măng Đen, huyện Kon Plông, tỉnh Kon Tum
STATUS:CONFIRMED
SEQUENCE:0
END:VEVENT
END:VCALENDAR