BEGIN:VCALENDAR
VERSION:2.0
PRODID:-//iRace.vn//Calendar Export//EN
CALSCALE:GREGORIAN
BEGIN:VEVENT
DTSTART:20241227T170000Z
DTEND:20241228T165959Z
URL:https://ticket.irace.vn/my-tho-sunset-run-2024
SUMMARY:Giải chạy My Tho Sunset Run 2024
DESCRIPTION:Kiếm tiền cùng iRace: https://ticket.irace.vn/affiliate
LOCATION:TP. Mỹ Tho, Tiền Giang
STATUS:CONFIRMED
SEQUENCE:0
END:VEVENT
END:VCALENDAR