BEGIN:VCALENDAR
VERSION:2.0
PRODID:-//iRace.vn//Calendar Export//EN
CALSCALE:GREGORIAN
BEGIN:VEVENT
DTSTART:20241019T170000Z
DTEND:20241020T165959Z
URL:https://ticket.irace.vn/buoc-chan-gan-ket-yeu-thuong
SUMMARY:Giải chạy Bước chân gắn kết yêu thương
DESCRIPTION:Kiếm tiền cùng iRace: https://ticket.irace.vn/affiliate
LOCATION:OCEAN CITY @VINHOMES OCEAN PARK 1 Huyện Gia Lâm, Thành phố Hà Nội
STATUS:CONFIRMED
SEQUENCE:0
END:VEVENT
END:VCALENDAR