BEGIN:VCALENDAR
VERSION:2.0
PRODID:-//iRace.vn//Calendar Export//EN
CALSCALE:GREGORIAN
BEGIN:VEVENT
DTSTART:20241130T170000Z
DTEND:20241201T165959Z
URL:https://ticket.irace.vn/run-for-hope
SUMMARY:Giải chạy Run For Hope
DESCRIPTION:Kiếm tiền cùng iRace: https://ticket.irace.vn/affiliate
LOCATION:Hà Nội
STATUS:CONFIRMED
SEQUENCE:0
END:VEVENT
END:VCALENDAR