BEGIN:VCALENDAR
VERSION:2.0
PRODID:-//iRace.vn//Calendar Export//EN
CALSCALE:GREGORIAN
BEGIN:VEVENT
DTSTART:20241116T170000Z
DTEND:20241117T165959Z
URL:https://ticket.irace.vn/duong-chay-sac-mau-nu-cuoi-2024
SUMMARY:Đường chạy Sắc Màu Nụ Cười 2024
DESCRIPTION:Kiếm tiền cùng iRace: https://ticket.irace.vn/affiliate
LOCATION:Khu đô thị Phú Mỹ Hưng - Quận 7, TP. HCM
STATUS:CONFIRMED
SEQUENCE:0
END:VEVENT
END:VCALENDAR