BEGIN:VCALENDAR
VERSION:2.0
PRODID:-//iRace.vn//Calendar Export//EN
CALSCALE:GREGORIAN
BEGIN:VEVENT
DTSTART:20250606T170000Z
DTEND:20250607T165959Z
URL:https://ticket.irace.vn/con-dao-run-challenge-2025
SUMMARY:Giải chạy Côn Đảo Run Challenge 2025
DESCRIPTION:Kiếm tiền cùng iRace: https://ticket.irace.vn/affiliate
LOCATION:Vườn Quốc gia Côn Đảo
STATUS:CONFIRMED
SEQUENCE:0
END:VEVENT
END:VCALENDAR