BEGIN:VCALENDAR
VERSION:2.0
PRODID:-//iRace.vn//Calendar Export//EN
CALSCALE:GREGORIAN
BEGIN:VEVENT
DTSTART:20250502T170000Z
DTEND:20250503T165959Z
URL:https://ticket.irace.vn/an-lao-trail-lac-giua-may-ngan
SUMMARY:Giải chạy An Lão Trail - Lạc Giữa Mây Ngàn
DESCRIPTION:Kiếm tiền cùng iRace: https://ticket.irace.vn/affiliate
LOCATION:An Lão, Bình Định
STATUS:CONFIRMED
SEQUENCE:0
END:VEVENT
END:VCALENDAR