BEGIN:VCALENDAR
VERSION:2.0
PRODID:-//iRace.vn//Calendar Export//EN
CALSCALE:GREGORIAN
BEGIN:VEVENT
DTSTART:20250301T170000Z
DTEND:20250302T165959Z
URL:https://ticket.irace.vn/fleur-de-lys-bu-gia-map-jungle-path-2025
SUMMARY:Giải chạy Fleur de Lys Bù Gia Mập Jungle Paths 2025
DESCRIPTION:Kiếm tiền cùng iRace: https://ticket.irace.vn/affiliate
LOCATION:Vườn Quốc gia Bù Gia Mập, huyện Bù Gia Mập, Bình Phước
STATUS:CONFIRMED
SEQUENCE:0
END:VEVENT
END:VCALENDAR