BEGIN:VCALENDAR
VERSION:2.0
PRODID:-//iRace.vn//Calendar Export//EN
CALSCALE:GREGORIAN
BEGIN:VEVENT
DTSTART:20250927T213000Z
DTEND:20250928T165959Z
URL:https://ticket.irace.vn/run-for-the-heart-chay-vi-trai-tim-2025
SUMMARY:Giải chạy Run For The Heart - Chạy Vì Trái Tim 2025
DESCRIPTION:Kiếm tiền cùng iRace: https://ticket.irace.vn/affiliate
LOCATION:MetroPole Thu Thiem, Ho Chi Minh city
STATUS:CONFIRMED
SEQUENCE:0
END:VEVENT
END:VCALENDAR