BEGIN:VCALENDAR
VERSION:2.0
PRODID:-//iRace.vn//Calendar Export//EN
CALSCALE:GREGORIAN
BEGIN:VEVENT
DTSTART:20251220T210000Z
DTEND:20251221T030000Z
URL:https://ticket.irace.vn/vnexpress-marathon-hai-phong-2025
SUMMARY:Giải chạy VnExpress Marathon Hai Phong 2025
DESCRIPTION:Kiếm tiền cùng iRace: https://ticket.irace.vn/affiliate
LOCATION:Thành phố Hải Phòng
STATUS:CONFIRMED
SEQUENCE:0
END:VEVENT
END:VCALENDAR