BEGIN:VCALENDAR
VERSION:2.0
PRODID:-//iRace.vn//Calendar Export//EN
CALSCALE:GREGORIAN
BEGIN:VEVENT
DTSTART:20250823T220000Z
DTEND:20250824T030000Z
URL:https://ticket.irace.vn/vietnam-family-marathon-eternal-hue-fun-run-2025
SUMMARY:Giải chạy Vietnam Family Marathon - Eternal Huế Fun Run 2025
DESCRIPTION:Kiếm tiền cùng iRace: https://ticket.irace.vn/affiliate
LOCATION:Phu Văn Lâu, Thành phố Huế
STATUS:CONFIRMED
SEQUENCE:0
END:VEVENT
END:VCALENDAR