BEGIN:VCALENDAR
VERSION:2.0
PRODID:-//iRace.vn//Calendar Export//EN
CALSCALE:GREGORIAN
BEGIN:VEVENT
DTSTART:20260516T190000Z
DTEND:20260517T003000Z
URL:https://ticket.irace.vn/hai-phong-legacy-marathon-2026
SUMMARY:Giải chạy Hai Phong Legacy Marathon 2026
DESCRIPTION:Kiếm tiền cùng iRace: https://ticket.irace.vn/affiliate
LOCATION:Quảng trường Vinhomes Royal Island (Quảng Trường Châu Âu), Vũ Yên, Hải Phòng
STATUS:CONFIRMED
SEQUENCE:0
END:VEVENT
END:VCALENDAR