BEGIN:VCALENDAR
VERSION:2.0
PRODID:-//iRace.vn//Calendar Export//EN
CALSCALE:GREGORIAN
BEGIN:VEVENT
DTSTART:20260418T080000Z
DTEND:20260316T033000Z
URL:https://ticket.irace.vn/andros-lakes-race-8th
SUMMARY:Giải chạy Andros Lakes Race (8th)
DESCRIPTION:Kiếm tiền cùng iRace: https://ticket.irace.vn/affiliate
LOCATION:Hồ Đá - Hồ Chí Minh
STATUS:CONFIRMED
SEQUENCE:0
END:VEVENT
END:VCALENDAR