BEGIN:VCALENDAR
VERSION:2.0
PRODID:-//iRace.vn//Calendar Export//EN
CALSCALE:GREGORIAN
BEGIN:VEVENT
DTSTART:20260531T090000Z
DTEND:20260531T100000Z
URL:https://ticket.irace.vn/children-s-cancer-run-2026
SUMMARY:Chạy Vì Bệnh Nhi Ung Thư 2026
DESCRIPTION:Kiếm tiền cùng iRace: https://ticket.irace.vn/affiliate
LOCATION:The Global City, Đường Đỗ Xuân Hợp, Phường Bình Trưng, Tp.HCM
STATUS:CONFIRMED
SEQUENCE:0
END:VEVENT
END:VCALENDAR