BEGIN:VCALENDAR
VERSION:2.0
PRODID:-//iRace.vn//Calendar Export//EN
CALSCALE:GREGORIAN
BEGIN:VEVENT
DTSTART:20260306T224500Z
DTEND:20260307T023000Z
URL:https://ticket.irace.vn/con-son-kiep-bac-half-marathon-2026
SUMMARY:Giải chạy Côn Sơn - Kiếp Bạc Half Marathon 2026
DESCRIPTION:Kiếm tiền cùng iRace: https://ticket.irace.vn/affiliate
LOCATION:Quần thể Di sản thế giới Yên Tử - Vĩnh Nghiêm - Côn Sơn Kiếp Bạc
STATUS:CONFIRMED
SEQUENCE:0
END:VEVENT
END:VCALENDAR