BEGIN:VCALENDAR
VERSION:2.0
PRODID:-//iRace.vn//Calendar Export//EN
CALSCALE:GREGORIAN
BEGIN:VEVENT
DTSTART:20261105T200000Z
DTEND:20261108T023000Z
URL:https://ticket.irace.vn/lamdong-trail-2026
SUMMARY:Giải chạy Lâm Đồng Trail 2026
DESCRIPTION:Kiếm tiền cùng iRace: https://ticket.irace.vn/affiliate
LOCATION:TTC World - Thung Lũng Tình Yêu, số 03-05-07 đường Mai Anh Đào, phường Lâm Viên, Tp. Đà Lạt, Lâm Đồng
STATUS:CONFIRMED
SEQUENCE:0
END:VEVENT
END:VCALENDAR